BEGIN:VCALENDAR
VERSION:2.0
PRODID:-//The Arc - ECPv5.16.4.1//NONSGML v1.0//EN
CALSCALE:GREGORIAN
METHOD:PUBLISH
X-WR-CALNAME:The Arc
X-ORIGINAL-URL:https://arcwestchester.org
X-WR-CALDESC:Events for The Arc
BEGIN:VTIMEZONE
TZID:UTC
BEGIN:STANDARD
TZOFFSETFROM:+0000
TZOFFSETTO:+0000
TZNAME:UTC
DTSTART:20230101T000000
END:STANDARD
END:VTIMEZONE
BEGIN:VEVENT
DTSTART;VALUE=DATE:20230606
DTEND;VALUE=DATE:20230607
DTSTAMP:20260422T101738
CREATED:20230130T172527Z
LAST-MODIFIED:20230417T183132Z
UID:26980-1686009600-1686095999@arcwestchester.org
SUMMARY:The Arc Westchester's Annual Membership Meeting
DESCRIPTION:Keynote Speaker: Kimberly Hill\, New York State Chief Disability Officer\, Office of Governor Hochul \nThis is a ZOOM Meeting for members only. RSVP Required. \nClick here for details 
URL:https://arcwestchester.org/events/the-arc-westchesters-annual-membership-meeting/
LOCATION:Virtual!
END:VEVENT
END:VCALENDAR