BEGIN:VCALENDAR
VERSION:2.0
PRODID:-//The Arc - ECPv5.16.4.1//NONSGML v1.0//EN
CALSCALE:GREGORIAN
METHOD:PUBLISH
X-WR-CALNAME:The Arc
X-ORIGINAL-URL:https://arcwestchester.org
X-WR-CALDESC:Events for The Arc
BEGIN:VTIMEZONE
TZID:UTC
BEGIN:STANDARD
TZOFFSETFROM:+0000
TZOFFSETTO:+0000
TZNAME:UTC
DTSTART:20190101T000000
END:STANDARD
END:VTIMEZONE
BEGIN:VEVENT
DTSTART;VALUE=DATE:20190902
DTEND;VALUE=DATE:20190903
DTSTAMP:20260423T171426
CREATED:20190515T054334Z
LAST-MODIFIED:20190515T054341Z
UID:2797-1567382400-1567468799@arcwestchester.org
SUMMARY:Labor Day (agency closed)
DESCRIPTION:Arc Westchester day services and offices will be closed in recognition of Labor Day.
URL:https://arcwestchester.org/events/labor-day-agency-closed/
END:VEVENT
END:VCALENDAR