BEGIN:VCALENDAR
VERSION:2.0
PRODID:-//The Arc - ECPv5.16.4.1//NONSGML v1.0//EN
CALSCALE:GREGORIAN
METHOD:PUBLISH
X-WR-CALNAME:The Arc
X-ORIGINAL-URL:https://arcwestchester.org
X-WR-CALDESC:Events for The Arc
BEGIN:VTIMEZONE
TZID:UTC
BEGIN:STANDARD
TZOFFSETFROM:+0000
TZOFFSETTO:+0000
TZNAME:UTC
DTSTART:20210101T000000
END:STANDARD
END:VTIMEZONE
BEGIN:VEVENT
DTSTART;TZID=UTC:20210209T130000
DTEND;TZID=UTC:20210209T153000
DTSTAMP:20260420T081541
CREATED:20210205T153631Z
LAST-MODIFIED:20210205T154924Z
UID:14195-1612875600-1612884600@arcwestchester.org
SUMMARY:Joint Legislative & Advocacy Forum
DESCRIPTION:Our annual Legislative & Advocacy Forum is designed to give not-for-profit agencies\, parents and family members\, self-advocates and direct support professionals access to information on legislation\, the Executive Budget proposal and leadership in the Senate and Assembly without driving to the NYS Capitol. \nWhile we’d rather gather together\, we’ll meet using a virtual format and provide event attendees with opportunities to: \n\nLearn about the proposed 2021-22 Executive Budget Proposal for OPWDD\nMeet the Chairs of the Senate and Assembly Committees\nGain insight into the I/DD sector’s legislative & budget priorities\nUnderstand how to communicate your message effectively\n\nPresentations will be held on February 9th\, 10th and 11th and the working agenda is included below. \nINFORMATION & REGISTRATION →
URL:https://arcwestchester.org/events/joint-legislative-advocacy-forum/
ATTACH;FMTTYPE=image/jpeg:https://arcwestchester.org/wp-content/uploads/2021/02/Forum_NYAlliance.jpg
END:VEVENT
END:VCALENDAR