BEGIN:VCALENDAR
VERSION:2.0
PRODID:-//The Arc - ECPv5.16.4.1//NONSGML v1.0//EN
CALSCALE:GREGORIAN
METHOD:PUBLISH
X-WR-CALNAME:The Arc
X-ORIGINAL-URL:https://arcwestchester.org
X-WR-CALDESC:Events for The Arc
BEGIN:VTIMEZONE
TZID:UTC
BEGIN:STANDARD
TZOFFSETFROM:+0000
TZOFFSETTO:+0000
TZNAME:UTC
DTSTART:20190101T000000
END:STANDARD
END:VTIMEZONE
BEGIN:VEVENT
DTSTART;TZID=UTC:20191002T100000
DTEND;TZID=UTC:20191002T140000
DTSTAMP:20260423T171212
CREATED:20190924T185126Z
LAST-MODIFIED:20190924T185126Z
UID:6294-1570010400-1570024800@arcwestchester.org
SUMMARY:Job Fair
DESCRIPTION:Come to a job fair at The Arc Westchester. Many positions are available. Walk-in’s welcome. \nContact Judit Acevedo\, 914.495.4575 or email jacevedo@arcwestchester.org
URL:https://arcwestchester.org/events/job-fair/
LOCATION:265 Saw Mill River Road\, Hawthorne\, NY 10532\, 265 Saw Mill River Road\, Hawthorne\, 10532\, United States
ORGANIZER;CN="Judit%20Acevedo":MAILTO:positions@arcwestchester.org
END:VEVENT
END:VCALENDAR