BEGIN:VCALENDAR
VERSION:2.0
PRODID:-//The Arc - ECPv5.16.4.1//NONSGML v1.0//EN
CALSCALE:GREGORIAN
METHOD:PUBLISH
X-WR-CALNAME:The Arc
X-ORIGINAL-URL:https://arcwestchester.org
X-WR-CALDESC:Events for The Arc
BEGIN:VTIMEZONE
TZID:UTC
BEGIN:STANDARD
TZOFFSETFROM:+0000
TZOFFSETTO:+0000
TZNAME:UTC
DTSTART:20200101T000000
END:STANDARD
END:VTIMEZONE
BEGIN:VEVENT
DTSTART;TZID=UTC:20200703T083000
DTEND;TZID=UTC:20200703T160000
DTSTAMP:20260421T082629
CREATED:20191231T170934Z
LAST-MODIFIED:20191231T170934Z
UID:7517-1593765000-1593792000@arcwestchester.org
SUMMARY:Independence Day Observed
DESCRIPTION:Offices and programs will be closed
URL:https://arcwestchester.org/events/independence-day-observed/
END:VEVENT
END:VCALENDAR