BEGIN:VCALENDAR
VERSION:2.0
PRODID:-//The Arc - ECPv5.16.4.1//NONSGML v1.0//EN
CALSCALE:GREGORIAN
METHOD:PUBLISH
X-WR-CALNAME:The Arc
X-ORIGINAL-URL:https://arcwestchester.org
X-WR-CALDESC:Events for The Arc
BEGIN:VTIMEZONE
TZID:UTC
BEGIN:STANDARD
TZOFFSETFROM:+0000
TZOFFSETTO:+0000
TZNAME:UTC
DTSTART:20210101T000000
END:STANDARD
END:VTIMEZONE
BEGIN:VEVENT
DTSTART;TZID=UTC:20210417T150000
DTEND;TZID=UTC:20210417T170000
DTSTAMP:20260420T164314
CREATED:20210414T182705Z
LAST-MODIFIED:20210414T182933Z
UID:15158-1618671600-1618678800@arcwestchester.org
SUMMARY:Autism & Adulthood Panel Discussion
DESCRIPTION:Hear Tibi Guzmán and a panel of experts as they discuss this topic during Autism Acceptance Month.\nCLICK HERE TO SIGN UP
URL:https://arcwestchester.org/events/autism-adulthood-panel-discussion/
LOCATION:Bedford Playhouse\, 633 Old Post Road\, Bedford\, NY\, 10506\, United States
END:VEVENT
END:VCALENDAR